BEGIN:VCALENDAR
VERSION:2.0
PRODID:-//wp-events-plugin.com//6.5.2//EN
TZID:Europe/Brussels
X-WR-TIMEZONE:Europe/Brussels
BEGIN:VEVENT
UID:0-1102@sciences.brussels
DTSTART;TZID=Europe/Brussels:20210612T143000
DTEND;TZID=Europe/Brussels:20210612T160000
DTSTAMP:20210511T151116Z
URL:https://sciences.brussels/agenda/visite-guidee-generale-du-jardin-2eme
 -samedi-du-mois-3/
SUMMARY:Visite guidée générale du Jardin - 2ème samedi du mois
DESCRIPTION:[vc_row][vc_column][vc_column_text]Visite guidée générale to
 us les deuxièmes samedis du mois (14h30\, durée 1h30) des collections du
  Jardin Massart.\n\nAdultes.\n\nLe nombre de place est limité afin de res
 pecter les mesures de distanciation (sauf si changement des mesures) : 15 
 personnes max. !\nL'inscription est obligatoire pour chaque participant. 
 \n\nMerci de prévenir en cas d'annulation.\n\n&nbsp\;\n\n[caldera_form id
 ="CF609a999a28959"]\n\n[/vc_column_text][/vc_column][/vc_row]
ATTACH;FMTTYPE=image/jpeg:https://sciences.brussels/wp-content/uploads/202
 0/06/photos-Alex-11-scaled.jpg
CATEGORIES:Familles,Passionnés
LOCATION:Jardin Botanique Jean Massart\, Chaussée de Wavre\, 1850\, Bruxel
 les\, 1160\, Région Bruxelloise\, Belgique
GEO:50.81324062905512;4.437220416393984
X-APPLE-STRUCTURED-LOCATION;VALUE=URI;X-ADDRESS=Chaussée de Wavre\, 1850\,
  Bruxelles\, 1160\, Région Bruxelloise\, Belgique;X-APPLE-RADIUS=100;X-TI
 TLE=Jardin Botanique Jean Massart:geo:50.81324062905512,4.437220416393984
END:VEVENT
BEGIN:VTIMEZONE
TZID:Europe/Brussels
X-LIC-LOCATION:Europe/Brussels
BEGIN:DAYLIGHT
DTSTART:20210328T030000
TZOFFSETFROM:+0100
TZOFFSETTO:+0200
TZNAME:CEST
END:DAYLIGHT
END:VTIMEZONE
END:VCALENDAR