BEGIN:VCALENDAR
VERSION:2.0
PRODID:-//wp-events-plugin.com//6.5.2//EN
TZID:Europe/Brussels
X-WR-TIMEZONE:Europe/Brussels
BEGIN:VEVENT
UID:0-1433@sciences.brussels
DTSTART;TZID=Europe/Brussels;VALUE=DATE:20260427
DTEND;TZID=Europe/Brussels;VALUE=DATE:20260509
DTSTAMP:20260416T092556Z
URL:https://sciences.brussels/agenda/tente-ta-science-4/
SUMMARY:Tente ta science !
DESCRIPTION:[vc_row][vc_column][vc_single_image image="31143" img_size="ful
 l" css="" image_hovers="false"][vc_column_text css=""]\nUPDATE ! ATTENTION
  : Les inscriptions se clôturent le 22 avril !\n[/vc_column_text][vc_colu
 mn_text css=""]\nTu es en 5e ou 6e secondaire supérieur ? Les sciences t
 ’intéressent ? Tu envisages des études scientifiques ?\nTente ta scien
 ce !\nUn stage pour les vacances de printemps avec :\n\n 	Chaque jour une 
 thématique scientifique différente\n 	Des ateliers divers\n 	Des rencont
 res avec des chercheur·es\n 	Des visites de laboratoires de recherche au 
 sein de l’ULB\n\nEntre le 27 avril et le 8 mai\, tu peux t’inscrire po
 ur un ou plusieurs jours\, selon la ou les thématiques qui t’intéresse
 nt.\n\nPour cette édition\, la participation est payante : 6 EUR par jour
 .\n\nCette cotisation est exclusivement dédiée au financement du repas d
 e midi.\n\nSi tu te désiste avant le 17 avril\, tu seras remboursé·e.[/
 vc_column_text][vc_column_text css=""]\nAttention : Nouveauté pour cette 
 année\nSi tu es à la recherche d'un stage d'observation pour ton établi
 ssement scolaire\, tu peux t'inscrire pour Tente ta Science.\n\nÉtant don
 né le nombre important de demandes que la faculté de Sciences reçoit ch
 aque année\, nous avons décidé de regrouper toutes les candidatures sur
  une période bien définie.\n\nSi tu dois effectuer un stage obligatoire 
 imposé par ton établissement sur une période fixe\, nous pouvons te fou
 rnir une convention de stage. En cas de besoin\, ton établissement peut 
 également contacter Maya Boueiz (maya.boueiz@ulb.be).[/vc_column_text][/v
 c_column][/vc_row][vc_row][vc_column][vc_tta_accordion style="flat" shape=
 "square" color="violet" spacing="5" active_section="19" no_fill="true" col
 lapsible_all="true"][vc_tta_section title="Lundi 27 avril" tab_id="1680794
 024890-bf410184-6a3c"][vc_column_text css=""]\nEspace\, Technologies\, Phy
 sique | La Scientothèque (ULB\, Campus de la Plaine)\nAstro Pi Mission Sp
 ace Lab\nDurant cette journée\, les jeunes seront invité·es à particip
 er à Astro Pi Mission Space Lab\, une expérience où les élèves codent
  une expérience à bord de l’ISS. L’objectif final est de calculer la
  vitesse de l’ISS (par rapport à la Terre) en créant un code Python.\n
 Apprenez à coder en Python et à manipuler des algorithmes de traitement 
 d’image pour estimer la vitesse de la station spatiale internationale ! 
 Celles et ceux qui pourront mener à bien leur code auront alors la chance
  de le soumettre à l’agence spatiale européenne pour le faire tourner 
 à bord de la station spatiale internationale !\nObjectif : concevoir et r
 éaliser une expérience dans l’ISS\, traiter et communiquer les résult
 ats.\nGroupe cible : 16 à 19 ans\nDans l’après-midi\, les jeunes auron
 t aussi la possibilité de participer à une rencontre informelle avec un
 ·e chercheur·e en astrophysique pour échanger sur ses expériences et l
 ui poser toutes leurs questions !\nHoraire : 10h à 15h30\nLieu : ULB camp
 us de la Plaine\, le local et le lieu de rendez-vous seront communiqués u
 ltérieurement\n\nContact : Thibault Peltier - 04 98 16 05 58 - thibault@
 lascientotheque.be\n[/vc_column_text][/vc_tta_section][vc_tta_section titl
 e="Mardi 28 avril" tab_id="1680794246950-e7ec38ec-1ed7"][vc_column_text cs
 s=""]\nPhysique | Département de Physique (ULB\, Campus de la Plaine)\nIn
 finiment Physique\nDiscussions informelles avec des chercheur·es du dépa
 rtement de physique (par exemple physique des particules élémentaires\, 
 physique quantique\, physique théorique\, physique non linéaire\, physiq
 ue de la matière molle). Visites de laboratoires.\nHoraire : 9h à 16h\nL
 ieu : Sera communiqué ultérieurement\nContact :  Sophie Van Eck - 04 86
  32 78 00 - sophie.van.eck@ulb.be\n[/vc_column_text][/vc_tta_section][vc_t
 ta_section title="Mercredi 29 mai" tab_id="1680794246334-cc3d8940-7f80"][v
 c_column_text css=""]\nPhysique\, Biologie et Géosciences\, Environnement
  | Musée de la Microscopie (ULB\, Campus du Solbosch) et Expérimentarium
  des sciences de la Terre (ULB\, Campus du Solbosch)\nLa Face Cachée des
  jeux vidéos et microscopie en tous sens...\nApproche transdisciplinaire 
 de la microscopie optique : histoire\, physique\, biologie... En introduct
 ion\, observation de microscopes anciens exposés dans le musée. Récit d
 e progrès déterminants en microscopie ainsi que de découvertes majeures
  qui en ont résulté. Exposé des principes fondamentaux régissant la fo
 rmation des images et fixant les limites théoriques des performances des 
 instruments. En pratique : utilisation de deux types de microscopes selon 
 différents modes d'éclairage \; réalisation de diverses préparations a
 daptées. Démonstration d'autres instruments et de techniques particuliè
 res\, dont une en continuité avec la demi-journée au département de min
 éralogie. Aspects artistiques et philosophiques si c'est souhaité.\nDéc
 ouverte des métaux utilisés dans les circuits d'une PlayStation\; origin
 e des métaux dans les minéraux et minerais\, visite des vitrines du mus
 ée de minéralogie au travers d'une chasse aux trésors\; lien entre les 
 minerais et les mines au travers d'un puzzle.\nHoraire : 10h à 16h\nLieu
  : ULB Campus du Solbosch\, Bâtiment U\, Porte A\, Niveau 2\, Local UA2.
 313 et ULB Campus du Solbosch\, Bâtiment D (le local sera préciser ulté
 rieurement)\nContact :\n\n 	Pour le µZoo Pierre Devahif - 04 77 74 09 79 
 - pierre.devahif@ulb.be\n 	Pour l'Expérimentarium des sciences de la Terr
 e : Vinciane Debaille - 04 86 24 82 32 - Vinciane.Debaille@ulb.be\n\n[/vc_
 column_text][/vc_tta_section][vc_tta_section title="Jeudi 30 avril" tab_id
 ="1680794245832-ff3195e8-4e2f"][vc_column_text css=""]\nInformatique | Dé
 partement Informatique (ULB\, Campus de la Plaine)\nInformatique Créative
 \nDeux ateliers de programmation destinés à initier les participants à 
 la créativité informatique et à la pensée par la pratique et l’expé
 rimentation au moyen du langage Python. Les participants découvriront par
  eux-mêmes le potentiel créatif du langage Python.\nHoraire : 9h à 16h\
 nLieu : Campus de la Plaine\, Bâtiment NO - 4e étage\nContact : Dimitri
  Papadimitriou - 04 76 96 19 83 - dimitrios.papadimitriou@ulb.be\n[/vc_col
 umn_text][/vc_tta_section][vc_tta_section title="Lundi 4 mai" tab_id="1680
 794245107-292de5f3-8324"][vc_column_text css=""]\nTechnologies\, Physique 
 | STEAM Lab | FabLab ULB (ULB\, Campus USquare / SeeU)\nFab Lab et Science
  Frugale\nVenez découvrir le FabLab ULB\, ses machines de fabrication num
 érique et la recherche qui s'y développe. Participez à un atelier "Impr
 ession 3D" et à un atelier "Foldscope" (construction d'un microscope en p
 apier). Découvrez le laboratoire de recherche de physique expérimentale\
 , le Frugal Lab. Comprenez comment la nature inspire les scientifiques\, l
 es pousse à comprendre des phénomènes inattendus et à développer de n
 ouvelles technologies.\nHoraire : 10h à 15h\nLieu : FabLab ULB – STEA
 M Lab (Bât F\, 1er étage) | Accès par le 227 avenue de la Couronne\nCon
 tact : Stéphanie Krins – 04 77 95 80 32 – stephanie.krins@ulb.be\n[/
 vc_column_text][/vc_tta_section][vc_tta_section title="Mardi 5 mai" tab_id
 ="1680794244043-b1e227e8-33b5"][vc_column_text css=""]\nBiologie | Muséum
  de Zoologie (ULB\, Campus du Solbosch)\nEnquête et Dissection\nMATIN : O
 bservation et comparaison des spécimens en vitrine dans la salle d'Anthro
 pologie\, et recherche de réponses dans la documentation fournie\, afin d
 e comprendre la classification phylogénétique des Primates et l'évoluti
 on de la lignée humaine\; (Atelier muzoo-03)\n\nAPRÈS-MIDI : Venez déco
 uvrir l'anatomie d'une grenouille\, à vous l'action : dissection pratique
 \nHoraire : 10h à 16h\nLieu : Muséum de Zoologie | ULB Campus du Solbos
 ch\, Bâtiment U\, Porte A\, Niveau 1\, Local UA1.319\nContact : Michèle 
 Loneux - 02 650 36 78 - michele.loneux@ulb.be\n[/vc_column_text][/vc_tta_s
 ection][vc_tta_section title="Mercredi 6 mai" tab_id="1680794243303-5e0f48
 05-211e"][vc_column_text css=""]\nInterdisciplinaire | BLU-ULB : Brussels 
 laboratory of the Universe (ULB\, Campus de la Plaine)\nDe la Terre à l'U
 nivers: la recherche spatiale à l'ULB\n\nPrésentation des groupes de rec
 herche travaillant sur le spatial: Astronomie\, Astrophysique\, cosmologie
 \, cosmochimie\, physique de l'atmosphère\, astroparticules\, etc. voir b
 lu.ulb.be\n\nHoraire : 9h à 16h\nLieu : Sera communiqué ultérieurement\
 nContact :  Sophie Van Eck - 04 86 32 78 00 - sophie.van.eck@ulb.be\n[/vc
 _column_text][/vc_tta_section][vc_tta_section title="Jeudi 7 mai" tab_id="
 1720805376880-d1869aed-e24a"][vc_column_text css=""]\nMathématique et Inf
 ormatique | L’Expérimentarium de Mathématiques et d’Informatique (UL
 B\, Campus de la Plaine)\nEscape game et manipulations\nMettez vos abilit
 és mathématiques et logiques à l'épreuve grâce à l'escape game "Enig
 mathique" et tentez d'obtenir un trésor inestimable.\nEnsuite\, découvre
 z à travers un atelier comment les mathématiques et l'informatique inter
 agissent.\n\nFinalement\, en après-midi\, vous aurez l'occasion de décou
 vrir les études à la Plaine lors d'une rencontre-goûter avec des cherch
 eurs des départements de mathématiques et d'informatique.\nHoraire : 10h
  à 16h\nLieu : Campus de la Plaine\, Bâtiment NO - le local sera communi
 qué ultérieurement\nContact : Clara Hanon - 04 93 04 28 13 - Clara.Hano
 n@ulb.be\n[/vc_column_text][/vc_tta_section][vc_tta_section title="Vendred
 i 8 mai" tab_id="1720805404230-25ea9fd2-5d25"][vc_column_text css=""]Pas d
 'activités.[/vc_column_text][/vc_tta_section][/vc_tta_accordion][/vc_colu
 mn][/vc_row][vc_row][vc_column][vc_separator][/vc_column][/vc_row][vc_row]
 [vc_column][vc_column_text css=""]Vente de billets en ligne[/vc_column_tex
 t][/vc_column][/vc_row][vc_row][vc_column][vc_separator][/vc_column][/vc_r
 ow][vc_row][vc_column width="1/3"][vc_single_image image="22604" alignment
 ="right"][/vc_column][vc_column width="1/3"][vc_single_image image="19232"
  img_size="large" alignment="center" onclick="custom_link" img_link_target
 ="_blank" link="http://innoviris.brussels"][vc_column_text]\nUn projet fin
 ancé par Innoviris\n[/vc_column_text][/vc_column][vc_column width="1/3"][
 vc_single_image image="21598" img_size="full"][/vc_column][/vc_row]
ATTACH;FMTTYPE=image/jpeg:https://sciences.brussels/wp-content/uploads/202
 3/04/carre2.jpg
CATEGORIES:5e secondaire,6e secondaire,Secondaire
END:VEVENT
BEGIN:VTIMEZONE
TZID:Europe/Brussels
X-LIC-LOCATION:Europe/Brussels
BEGIN:DAYLIGHT
DTSTART:20260329T030000
TZOFFSETFROM:+0100
TZOFFSETTO:+0200
TZNAME:CEST
END:DAYLIGHT
END:VTIMEZONE
END:VCALENDAR