BEGIN:VCALENDAR
VERSION:2.0
PRODID:-//wp-events-plugin.com//6.5.2//EN
TZID:Europe/Brussels
X-WR-TIMEZONE:Europe/Brussels
BEGIN:VEVENT
UID:0-751@sciences.brussels
DTSTART;TZID=Europe/Brussels:20180312T180000
DTEND;TZID=Europe/Brussels:20180312T180000
DTSTAMP:20180222T165843Z
URL:https://sciences.brussels/agenda/cerveau-mathematiques-croissance-trau
 matisme-modeles-solutions/
SUMMARY:Le Cerveau et les Mathématiques : Croissance et Traumatisme\, Mod
 èles et Solutions
DESCRIPTION:Conférence du Professeur Alain Goriely (Université d’Oxford
  et Directeur de l'Oxford Centre for Industrial and Applied Mathematics).\
 n\nLe cerveau humain est l’objet ultime de notre égocentrisme intellec
 tuel. C’est aussi une source formidable de problèmes scientifiques et 
 un organe d’une complexité telle qu’il n’est pas clair qu’une ap
 proche mathématique soit possible. Durant cet exposé je vais considére
 r plusieurs problèmes de modélisation liés au cerveau. En utilisant de
 s nombres et des lois d’échelles\, on essayera de déterminer si le c
 erveau humain est aussi remarquable qu’on le pense. En partant de la g
 éométrie\, on verra comment les formes circonvolues du cerveau apparais
 sent et comment elles sont liées au développement de la boite crânienn
 e. Grâce à la physique\, on verra aussi qu’il est possible de dével
 opper des modèles simples qui nous apprennent ce qui se passe lors d’u
 n traumatisme crânien. Finalement\, on se posera la question essentielle
  de savoir si l’on peut développer des modèles de démence avant de 
 perdre la raison.\n\nL’événement est gratuit mais il est nécessaire d
 e s’inscrire au plus tard le 5 mars via cette page : https://goriely.ev
 entbrite.com\n\nLa conférence sera suivie d'une réception.\n\nCette conf
 érence est organisée par la Fondation Philippe Wiener - Maurice Anspach.
ATTACH;FMTTYPE=image/jpeg:https://sciences.brussels/wp-content/uploads/201
 8/02/image001.png
CATEGORIES:Chercheurs,Enseignants,Étudiants,Passionnés
LOCATION:ULB Campus du Solbosch - Bâtiment R42  - Niveau 5 - Auditoire R42
 .5.503\, 42\, avenue Franklin Roosevelt\, Bruxelles\, 1050\, Belgique
GEO:50.8136844;4.378744500000039
X-APPLE-STRUCTURED-LOCATION;VALUE=URI;X-ADDRESS=42\, avenue Franklin Roosev
 elt\, Bruxelles\, 1050\, Belgique;X-APPLE-RADIUS=100;X-TITLE=ULB Campus du
  Solbosch - Bâtiment R42  - Niveau 5 - Auditoire R42.5.503:geo:50.8136844
 ,4.378744500000039
END:VEVENT
BEGIN:VTIMEZONE
TZID:Europe/Brussels
X-LIC-LOCATION:Europe/Brussels
BEGIN:STANDARD
DTSTART:20171029T020000
TZOFFSETFROM:+0200
TZOFFSETTO:+0100
TZNAME:CET
END:STANDARD
END:VTIMEZONE
END:VCALENDAR